BEGIN:VCALENDAR
VERSION:2.0
PRODID:-//SportsPilot + Diocese of Cleveland CYO/
METHOD:PUBLISH
BEGIN:VEVENT
UID:83680001
DTSTAMP:20260421T042400Z
SUMMARY: Game:83680001: Gesu VS Assumption
DESCRIPTION: Location: Notr / NDCL Stadium
DTSTART:20230523T213000Z
DTEND:20230523T223000Z
END:VEVENT
BEGIN:VEVENT
UID:83680003
DTSTAMP:20260421T042400Z
SUMMARY: Game:83680003: St. Ambrose VS Gesu
DESCRIPTION: Location: Blossom Hill Fields / Lacrosse Field
DTSTART:20230527T183000Z
DTEND:20230527T193000Z
END:VEVENT
END:VCALENDAR
